BEGIN:VCALENDAR
VERSION:2.0
PRODID:-//eventon.com NONSGML v1.0//EN
CALSCALE:GREGORIAN
METHOD:PUBLISH
BEGIN:VEVENT
UID:69e9e8d9be503
DTSTAMP:20260423T093937Z
DTSTART:20240523T070000Z
DTEND:20240524T150000Z
LOCATION:
SUMMARY:SFSD SYMPOSIUM 2024
DESCRIPTION:I dagens värld är utbildning\,  kunskapsutveckling och erfare
 nhetsutbyte viktigare än någonsin. Vårt vetenskapliga program kommer att
  vara tankeväckande och berikande\,  men det är inte allt. Vår konferens
  skapar också en mötesplats där man har chansen att knyta band med kolle
 gor\,  utvidga sitt nätverk och kanske till och med starta upp[..]\nhttps:
 //meaconsulting.se/events/sfsd-symposium-2024/
URL:https://meaconsulting.se/events/sfsd-symposium-2024/
END:VEVENT
END:VCALENDAR