BEGIN:VCALENDAR
VERSION:2.0
PRODID:-//eventon.com NONSGML v1.0//EN
CALSCALE:GREGORIAN
METHOD:PUBLISH
BEGIN:VEVENT
UID:69e9fa4a06fce
DTSTAMP:20260423T105402Z
DTSTART:20241024T070000Z
DTEND:20241025T150000Z
LOCATION:
SUMMARY:Teknikkurs typ 1 Diabetes
DESCRIPTION:Tekniken med blodsockermätare och insulinpumpar går i ett ras
 ande tempo. Automatiserade pumpar och blodsockermätare (AID) blir vardag o
 ch behovet för vidareutbildning för personalen på våra diabeteskliniker
  är nödvändig. Nordic Infucare ihop med Glooko fortsätter därför att 
 ta ansvar för vidareutbildningen ihop med kunniga läkare och sköterskor 
 där det under kursdagarna[..]\nhttps://meaconsulting.se/events/teknikkurs-
 typ-1-diabetes-2/
URL:https://meaconsulting.se/events/teknikkurs-typ-1-diabetes-2/
END:VEVENT
END:VCALENDAR