BEGIN:VCALENDAR
VERSION:2.0
PRODID:-//eventon.com NONSGML v1.0//EN
CALSCALE:GREGORIAN
METHOD:PUBLISH
BEGIN:VEVENT
UID:69e4daf5e46c9
DTSTAMP:20260419T133901Z
DTSTART:20241015T073000Z
DTEND:20241015T150000Z
LOCATION:
SUMMARY:Nätverksträff - Vätgas Sverige
DESCRIPTION:Den 15 oktober blir det ännu en nätverksträff för medlemmar
 \,  denna gång kommer vi att hålla till på GTS konferens som erbjuder fi
 na gamla anrika lokaler i hjärtat av Göteborg. Vi startar redan kvällen 
 innan med en gemensam "Get together" och fortsätter sen den 15 oktober med
  konferens och presentationer[..]\nhttps://meaconsulting.se/events/natverks
 traff-vatgas-sverige/
URL:https://meaconsulting.se/events/natverkstraff-vatgas-sverige/
END:VEVENT
END:VCALENDAR