BEGIN:VCALENDAR
VERSION:2.0
PRODID:-//eventon.com NONSGML v1.0//EN
CALSCALE:GREGORIAN
METHOD:PUBLISH
BEGIN:VEVENT
UID:69e8b6369a4c1
DTSTAMP:20260422T115118Z
DTSTART:20260318T073000Z
DTEND:20260320T153000Z
LOCATION:
SUMMARY:Endokrindagarna 2026
DESCRIPTION:Endokrindagarna 2026 kommer att hållas i Umeå mellan 18-20 m
 ars. Det blir gästföreläsare\,  fria föredrag\,  postersessioner och in
 te minst det mycket populära sjuksköterskespåret med specifik inriktning
  mot sjuksköterskors arbete. På Endokrindagarna träffadas kollegor för 
 att utbyta erfarenheter\,  dra upp planer för framtida forskningssamarbete
 n och diskutera hur vi kan hjälpas åt att[..]\nhttps://meaconsulting.se/e
 vents/endokrindagarna-2026/
URL:https://meaconsulting.se/events/endokrindagarna-2026/
END:VEVENT
END:VCALENDAR